BEGIN:VCALENDAR
VERSION:2.0
PRODID:icalendar-ruby
CALSCALE:GREGORIAN
METHOD:PUBLISH
BEGIN:VEVENT
DTSTAMP:20260422T130141Z
UID:57-654921@11thstreetbaptist.org
DTSTART:20260516T170000Z
DTEND:20260516T190000Z
CLASS:PUBLIC
CREATED:20260420T141010
DESCRIPTION:Join us for a special Paint &amp\; Praise: Motherhood Ministry 
 Event on Saturday\, May 16th at 10:00 a.m. in our church courtyard. This e
 vent is designed to encourage and equip moms while creating meaningful\, j
 oy-filled moments with their children.\nFamilies will enjoy painting toget
 her\, light snacks\, and a time of fellowship in a welcoming environment. 
 We’ll spend time in God’s Word through a short devotional and worship 
 our great Savior\, celebrating the beauty and calling of motherhood throug
 h the gospel.\nWhether you're a new mom or have been mothering for years\,
  this event is a space to connect\, be refreshed\, and grow alongside othe
 r families.\nWe hope you can join!
LAST-MODIFIED:20260420T141010
LOCATION:Courtyard
SUMMARY:Paint and Praise Motherhood Event
URL;VALUE=URI:https://11thstreetbaptist.org/events/paint-and-praise-motherh
 ood-event/2026-05-16
ATTACH;FILENAME=Paint--Praise.jpg;FMTTYPE=image/jpeg:https://dq5pwpg1q8ru0.
 cloudfront.net/2026/04/20/21/10/10/77d2b501-c0b1-4831-a1ce-eb31b332d1a4/Pa
 int--Praise.jpg
END:VEVENT
END:VCALENDAR
