BEGIN:VCALENDAR
VERSION:2.0
PRODID:icalendar-ruby
CALSCALE:GREGORIAN
METHOD:PUBLISH
BEGIN:VEVENT
DTSTAMP:20260422T125519Z
UID:58-654922@11thstreetbaptist.org
DTSTART:20260509T143000Z
DTEND:20260509T160000Z
CLASS:PUBLIC
CREATED:20260420T141809
DESCRIPTION:Join us for our monthly Men’s Hike as we step away from the n
 oise of everyday life and spend intentional time together in God’s creat
 ion. This event is designed to help men build meaningful relationships\, e
 njoy the outdoors\, and grow in their faith.\nWe’ll hike together at a c
 omfortable pace\, share in fellowship along the way\, and take time for a 
 short devotional from God’s Word. Whether you’re new or have been arou
 nd for years\, this is a great opportunity to connect with other men and b
 e encouraged in your walk with Christ.\nCome ready to hike\, talk\, and be
  strengthened!
LAST-MODIFIED:20260420T141809
LOCATION:Marshall Canyon
SUMMARY:Men's Hike
URL;VALUE=URI:https://11thstreetbaptist.org/events/mens-hike--58/2026-05-09
ATTACH;FILENAME=Mens-Monthly-Hike.jpg;FMTTYPE=image/jpeg:https://dq5pwpg1q8
 ru0.cloudfront.net/2026/04/20/21/18/09/8fdbee41-8505-4843-a611-09d5b372561
 5/Mens-Monthly-Hike.jpg
END:VEVENT
END:VCALENDAR
