BEGIN:VCALENDAR
VERSION:2.0
PRODID:icalendar-ruby
CALSCALE:GREGORIAN
METHOD:PUBLISH
BEGIN:VEVENT
DTSTAMP:20260424T141823Z
UID:17-667618@11thstreetbaptist.org
DTSTART:20261022T013000Z
DTEND:20261022T023000Z
CLASS:PUBLIC
CREATED:20260424T052751
DESCRIPTION:We challenge our Youth weekly to know Jesus and live missionall
 y for his glory. Through our weekly and annual activities\, we provide the
 m with ample opportunities to become the men and women God is calling them
  to be. 
LAST-MODIFIED:20260424T052751
LOCATION:Youth Room
SUMMARY:Ignition Youth
URL;VALUE=URI:https://11thstreetbaptist.org/events/ignition-youth/2026-10-2
 1
ATTACH;FILENAME=IMG_3056.jpg;FMTTYPE=image/jpeg:https://dq5pwpg1q8ru0.cloud
 front.net/2024/12/18/02/16/54/25d797c8-991c-4c5d-98cf-87fee75086f0/IMG_305
 6.jpg
END:VEVENT
END:VCALENDAR
